BEGIN:VCALENDAR
VERSION:2.0
PRODID:-//Virginia Art Factory - ECPv6.15.20//NONSGML v1.0//EN
CALSCALE:GREGORIAN
METHOD:PUBLISH
X-WR-CALNAME:Virginia Art Factory
X-ORIGINAL-URL:https://virginiaartfactory.org
X-WR-CALDESC:Events for Virginia Art Factory
REFRESH-INTERVAL;VALUE=DURATION:PT1H
X-Robots-Tag:noindex
X-PUBLISHED-TTL:PT1H
BEGIN:VTIMEZONE
TZID:UTC
BEGIN:STANDARD
TZOFFSETFROM:+0000
TZOFFSETTO:+0000
TZNAME:UTC
DTSTART:20250101T000000
END:STANDARD
END:VTIMEZONE
BEGIN:VEVENT
DTSTART;TZID=UTC:20260422T100000
DTEND;TZID=UTC:20260531T170000
DTSTAMP:20260422T041854
CREATED:20251105T183309Z
LAST-MODIFIED:20260227T200426Z
UID:10002725-1776852000-1780246800@virginiaartfactory.org
SUMMARY:"4 the Love of Virginia" by Christine Raymond
DESCRIPTION:“4 the Love of Virginia” Christine Raymond Solo ExhibitExhibit dates: April 22\, 2026-May 31\, 2026Artist Reception: Saturday\, April 25\, 6-8 PMRSVP: https://insidenovatix.com/events/4-the-love-of-virginia-opening-reception-4-25-2026-210448 View the artwork\, meet the artist\, and enjoy wine and light refreshments at this free event.Artist Talk & Live Demonstration: Saturday\, May 9\, 2-4 PMAbout the ExhibitFor over a decade\, plein air artist Christine Raymond has found endless inspiration in the great outdoors. Her upcoming solo exhibition\, 4 the Love of Virginia\, is a visual love letter to the diverse landscapes of her adopted home state. \nDrawing upon more than two years of exploration across Virginia’s five distinct geographic regions—the Coastal Plain (Tidewater)\, Piedmont\, Blue Ridge Mountains\, Valley and Ridge\, and Appalachian Plateau—this body of work captures the spirit and diversity of the state’s natural beauty. Each region\, with its own character and charm\, has uniquely shaped the artist’s creative vision. \nApproximately 75% of the works in 4 the Love of Virginia were painted on location\, allowing viewers to experience the immediacy and authenticity of plein air artistry. The remaining 25% are larger\, more expressionistic pieces in oil and cold wax\, developed from plein air studies. These studio works convey the artist’s emotional and interpretive response to the landscapes that have moved her most deeply. \n4 the Love of Virginia is more than an exhibition—it is an invitation to explore\, reflect\, and fall in love with Virginia’s rich and varied terrain. Through her art\, Christine Raymond hopes to inspire others to discover the state’s natural wonders and share in the profound sense of place that has shaped her life and work. \n\nContact ARTfactory\, Gallery Director: Jordan Exum | jexum@VirginiaARTfactory.org 9419 Battle St\, Manassas\, VA 20110 | 703-330-2787 Gallery Hours: Tuesday-Saturday (10 am-5 pm)\, Sunday (12-5 pm) VirginiaARTfactory.org 
URL:https://virginiaartfactory.org/event/4-the-love-of-va/
LOCATION:ARTfactory\, 9419 Battle Street\, Manassas\, VA\, 20110\, United States
CATEGORIES:Gallery,Homepage Event
ATTACH;FMTTYPE=image/avif:https://virginiaartfactory.org/wp-content/uploads/2025/11/CRaymond_VactionSunset_36x24.avif
END:VEVENT
END:VCALENDAR