BEGIN:VCALENDAR
VERSION:2.0
PRODID:-//Virginia Art Factory - ECPv6.15.20//NONSGML v1.0//EN
CALSCALE:GREGORIAN
METHOD:PUBLISH
X-WR-CALNAME:Virginia Art Factory
X-ORIGINAL-URL:https://virginiaartfactory.org
X-WR-CALDESC:Events for Virginia Art Factory
REFRESH-INTERVAL;VALUE=DURATION:PT1H
X-Robots-Tag:noindex
X-PUBLISHED-TTL:PT1H
BEGIN:VTIMEZONE
TZID:America/New_York
BEGIN:DAYLIGHT
TZOFFSETFROM:-0500
TZOFFSETTO:-0400
TZNAME:EDT
DTSTART:20250309T070000
END:DAYLIGHT
BEGIN:STANDARD
TZOFFSETFROM:-0400
TZOFFSETTO:-0500
TZNAME:EST
DTSTART:20251102T060000
END:STANDARD
BEGIN:DAYLIGHT
TZOFFSETFROM:-0500
TZOFFSETTO:-0400
TZNAME:EDT
DTSTART:20260308T070000
END:DAYLIGHT
BEGIN:STANDARD
TZOFFSETFROM:-0400
TZOFFSETTO:-0500
TZNAME:EST
DTSTART:20261101T060000
END:STANDARD
BEGIN:DAYLIGHT
TZOFFSETFROM:-0500
TZOFFSETTO:-0400
TZNAME:EDT
DTSTART:20270314T070000
END:DAYLIGHT
BEGIN:STANDARD
TZOFFSETFROM:-0400
TZOFFSETTO:-0500
TZNAME:EST
DTSTART:20271107T060000
END:STANDARD
END:VTIMEZONE
BEGIN:VEVENT
DTSTART;TZID=America/New_York:20260724T193000
DTEND;TZID=America/New_York:20260724T220000
DTSTAMP:20260423T135941
CREATED:20260421T195913Z
LAST-MODIFIED:20260421T200346Z
UID:10003287-1784921400-1784930400@virginiaartfactory.org
SUMMARY:Beyond Therapy by Christopher Durang
DESCRIPTION:
URL:https://virginiaartfactory.org/event/beyond-therapy-by-christopher-durang-2/2026-07-24/
LOCATION:ARTfactory\, 9419 Battle Street\, Manassas\, VA\, 20110\, United States
CATEGORIES:Actors Theatre,Ticketed Event
ATTACH;FMTTYPE=image/png:https://virginiaartfactory.org/wp-content/uploads/2026/04/Beyond-Therapy-Webpage-Tablet-Graphic.png
END:VEVENT
BEGIN:VEVENT
DTSTART;TZID=America/New_York:20260725T193000
DTEND;TZID=America/New_York:20260725T220000
DTSTAMP:20260423T135941
CREATED:20260421T195913Z
LAST-MODIFIED:20260421T200346Z
UID:10003288-1785007800-1785016800@virginiaartfactory.org
SUMMARY:Beyond Therapy by Christopher Durang
DESCRIPTION:
URL:https://virginiaartfactory.org/event/beyond-therapy-by-christopher-durang-2/2026-07-25/
LOCATION:ARTfactory\, 9419 Battle Street\, Manassas\, VA\, 20110\, United States
CATEGORIES:Actors Theatre,Ticketed Event
ATTACH;FMTTYPE=image/png:https://virginiaartfactory.org/wp-content/uploads/2026/04/Beyond-Therapy-Webpage-Tablet-Graphic.png
END:VEVENT
BEGIN:VEVENT
DTSTART;TZID=America/New_York:20260726T140000
DTEND;TZID=America/New_York:20260726T163000
DTSTAMP:20260423T135941
CREATED:20260421T195913Z
LAST-MODIFIED:20260421T200346Z
UID:10003289-1785074400-1785083400@virginiaartfactory.org
SUMMARY:Beyond Therapy by Christopher Durang
DESCRIPTION:
URL:https://virginiaartfactory.org/event/beyond-therapy-by-christopher-durang-2/2026-07-26/
LOCATION:ARTfactory\, 9419 Battle Street\, Manassas\, VA\, 20110\, United States
CATEGORIES:Actors Theatre,Ticketed Event
ATTACH;FMTTYPE=image/png:https://virginiaartfactory.org/wp-content/uploads/2026/04/Beyond-Therapy-Webpage-Tablet-Graphic.png
END:VEVENT
BEGIN:VEVENT
DTSTART;TZID=America/New_York:20260731T193000
DTEND;TZID=America/New_York:20260731T220000
DTSTAMP:20260423T135941
CREATED:20260421T195913Z
LAST-MODIFIED:20260421T200346Z
UID:10003290-1785526200-1785535200@virginiaartfactory.org
SUMMARY:Beyond Therapy by Christopher Durang
DESCRIPTION:
URL:https://virginiaartfactory.org/event/beyond-therapy-by-christopher-durang-2/2026-07-31/
LOCATION:ARTfactory\, 9419 Battle Street\, Manassas\, VA\, 20110\, United States
CATEGORIES:Actors Theatre,Ticketed Event
ATTACH;FMTTYPE=image/png:https://virginiaartfactory.org/wp-content/uploads/2026/04/Beyond-Therapy-Webpage-Tablet-Graphic.png
END:VEVENT
BEGIN:VEVENT
DTSTART;TZID=America/New_York:20260801T193000
DTEND;TZID=America/New_York:20260801T220000
DTSTAMP:20260423T135941
CREATED:20260421T195913Z
LAST-MODIFIED:20260421T200346Z
UID:10003291-1785612600-1785621600@virginiaartfactory.org
SUMMARY:Beyond Therapy by Christopher Durang
DESCRIPTION:
URL:https://virginiaartfactory.org/event/beyond-therapy-by-christopher-durang-2/2026-08-01/
LOCATION:ARTfactory\, 9419 Battle Street\, Manassas\, VA\, 20110\, United States
CATEGORIES:Actors Theatre,Ticketed Event
ATTACH;FMTTYPE=image/png:https://virginiaartfactory.org/wp-content/uploads/2026/04/Beyond-Therapy-Webpage-Tablet-Graphic.png
END:VEVENT
BEGIN:VEVENT
DTSTART;TZID=America/New_York:20260802T140000
DTEND;TZID=America/New_York:20260802T163000
DTSTAMP:20260423T135941
CREATED:20260421T195913Z
LAST-MODIFIED:20260421T200346Z
UID:10003292-1785679200-1785688200@virginiaartfactory.org
SUMMARY:Beyond Therapy by Christopher Durang
DESCRIPTION:
URL:https://virginiaartfactory.org/event/beyond-therapy-by-christopher-durang-2/2026-08-02/
LOCATION:ARTfactory\, 9419 Battle Street\, Manassas\, VA\, 20110\, United States
CATEGORIES:Actors Theatre,Ticketed Event
ATTACH;FMTTYPE=image/png:https://virginiaartfactory.org/wp-content/uploads/2026/04/Beyond-Therapy-Webpage-Tablet-Graphic.png
END:VEVENT
END:VCALENDAR