BEGIN:VCALENDAR
VERSION:2.0
PRODID:-//Virginia Art Factory - ECPv6.15.20//NONSGML v1.0//EN
CALSCALE:GREGORIAN
METHOD:PUBLISH
X-WR-CALNAME:Virginia Art Factory
X-ORIGINAL-URL:https://virginiaartfactory.org
X-WR-CALDESC:Events for Virginia Art Factory
REFRESH-INTERVAL;VALUE=DURATION:PT1H
X-Robots-Tag:noindex
X-PUBLISHED-TTL:PT1H
BEGIN:VTIMEZONE
TZID:America/New_York
BEGIN:DAYLIGHT
TZOFFSETFROM:-0500
TZOFFSETTO:-0400
TZNAME:EDT
DTSTART:20250309T070000
END:DAYLIGHT
BEGIN:STANDARD
TZOFFSETFROM:-0400
TZOFFSETTO:-0500
TZNAME:EST
DTSTART:20251102T060000
END:STANDARD
BEGIN:DAYLIGHT
TZOFFSETFROM:-0500
TZOFFSETTO:-0400
TZNAME:EDT
DTSTART:20260308T070000
END:DAYLIGHT
BEGIN:STANDARD
TZOFFSETFROM:-0400
TZOFFSETTO:-0500
TZNAME:EST
DTSTART:20261101T060000
END:STANDARD
BEGIN:DAYLIGHT
TZOFFSETFROM:-0500
TZOFFSETTO:-0400
TZNAME:EDT
DTSTART:20270314T070000
END:DAYLIGHT
BEGIN:STANDARD
TZOFFSETFROM:-0400
TZOFFSETTO:-0500
TZNAME:EST
DTSTART:20271107T060000
END:STANDARD
END:VTIMEZONE
BEGIN:VEVENT
DTSTART;TZID=America/New_York:20261120T190000
DTEND;TZID=America/New_York:20261120T210000
DTSTAMP:20260424T131642
CREATED:20260423T181605Z
LAST-MODIFIED:20260423T182623Z
UID:10003295-1795201200-1795208400@virginiaartfactory.org
SUMMARY:Disney's Frozen The Broadway Musical
DESCRIPTION:
URL:https://virginiaartfactory.org/event/disneys-frozen-the-broadway-musical-2/2026-11-20/
LOCATION:Hylton Performing Arts Center\, 10960 George Mason Circle\, Manassas\, VA\, 20110\, United States
CATEGORIES:Actors Theatre,Ticketed Event
ATTACH;FMTTYPE=image/png:https://virginiaartfactory.org/wp-content/uploads/2026/01/Frozen-Tablet-Graphic-e1769623141403.png
END:VEVENT
BEGIN:VEVENT
DTSTART;TZID=America/New_York:20261121T140000
DTEND;TZID=America/New_York:20261121T160000
DTSTAMP:20260424T131642
CREATED:20260423T181605Z
LAST-MODIFIED:20260423T182623Z
UID:10003296-1795269600-1795276800@virginiaartfactory.org
SUMMARY:Disney's Frozen The Broadway Musical
DESCRIPTION:
URL:https://virginiaartfactory.org/event/disneys-frozen-the-broadway-musical-2/2026-11-21/1/
LOCATION:Hylton Performing Arts Center\, 10960 George Mason Circle\, Manassas\, VA\, 20110\, United States
CATEGORIES:Actors Theatre,Ticketed Event
ATTACH;FMTTYPE=image/png:https://virginiaartfactory.org/wp-content/uploads/2026/01/Frozen-Tablet-Graphic-e1769623141403.png
END:VEVENT
BEGIN:VEVENT
DTSTART;TZID=America/New_York:20261121T190000
DTEND;TZID=America/New_York:20261121T210000
DTSTAMP:20260424T131642
CREATED:20260423T181605Z
LAST-MODIFIED:20260423T182623Z
UID:10003297-1795287600-1795294800@virginiaartfactory.org
SUMMARY:Disney's Frozen The Broadway Musical
DESCRIPTION:
URL:https://virginiaartfactory.org/event/disneys-frozen-the-broadway-musical-2/2026-11-21/2/
LOCATION:Hylton Performing Arts Center\, 10960 George Mason Circle\, Manassas\, VA\, 20110\, United States
CATEGORIES:Actors Theatre,Ticketed Event
ATTACH;FMTTYPE=image/png:https://virginiaartfactory.org/wp-content/uploads/2026/01/Frozen-Tablet-Graphic-e1769623141403.png
END:VEVENT
BEGIN:VEVENT
DTSTART;TZID=America/New_York:20261122T140000
DTEND;TZID=America/New_York:20261122T160000
DTSTAMP:20260424T131642
CREATED:20260423T181605Z
LAST-MODIFIED:20260423T182623Z
UID:10003298-1795356000-1795363200@virginiaartfactory.org
SUMMARY:Disney's Frozen The Broadway Musical
DESCRIPTION:
URL:https://virginiaartfactory.org/event/disneys-frozen-the-broadway-musical-2/2026-11-22/
LOCATION:Hylton Performing Arts Center\, 10960 George Mason Circle\, Manassas\, VA\, 20110\, United States
CATEGORIES:Actors Theatre,Ticketed Event
ATTACH;FMTTYPE=image/png:https://virginiaartfactory.org/wp-content/uploads/2026/01/Frozen-Tablet-Graphic-e1769623141403.png
END:VEVENT
BEGIN:VEVENT
DTSTART;TZID=America/New_York:20261127T140000
DTEND;TZID=America/New_York:20261127T160000
DTSTAMP:20260424T131642
CREATED:20260423T181605Z
LAST-MODIFIED:20260423T182623Z
UID:10003299-1795788000-1795795200@virginiaartfactory.org
SUMMARY:Disney's Frozen The Broadway Musical
DESCRIPTION:
URL:https://virginiaartfactory.org/event/disneys-frozen-the-broadway-musical-2/2026-11-27/1/
LOCATION:Hylton Performing Arts Center\, 10960 George Mason Circle\, Manassas\, VA\, 20110\, United States
CATEGORIES:Actors Theatre,Ticketed Event
ATTACH;FMTTYPE=image/png:https://virginiaartfactory.org/wp-content/uploads/2026/01/Frozen-Tablet-Graphic-e1769623141403.png
END:VEVENT
BEGIN:VEVENT
DTSTART;TZID=America/New_York:20261127T190000
DTEND;TZID=America/New_York:20261127T210000
DTSTAMP:20260424T131642
CREATED:20260423T181605Z
LAST-MODIFIED:20260423T182623Z
UID:10003300-1795806000-1795813200@virginiaartfactory.org
SUMMARY:Disney's Frozen The Broadway Musical
DESCRIPTION:
URL:https://virginiaartfactory.org/event/disneys-frozen-the-broadway-musical-2/2026-11-27/2/
LOCATION:Hylton Performing Arts Center\, 10960 George Mason Circle\, Manassas\, VA\, 20110\, United States
CATEGORIES:Actors Theatre,Ticketed Event
ATTACH;FMTTYPE=image/png:https://virginiaartfactory.org/wp-content/uploads/2026/01/Frozen-Tablet-Graphic-e1769623141403.png
END:VEVENT
BEGIN:VEVENT
DTSTART;TZID=America/New_York:20261128T140000
DTEND;TZID=America/New_York:20261128T160000
DTSTAMP:20260424T131642
CREATED:20260423T181605Z
LAST-MODIFIED:20260423T182623Z
UID:10003301-1795874400-1795881600@virginiaartfactory.org
SUMMARY:Disney's Frozen The Broadway Musical
DESCRIPTION:
URL:https://virginiaartfactory.org/event/disneys-frozen-the-broadway-musical-2/2026-11-28/1/
LOCATION:Hylton Performing Arts Center\, 10960 George Mason Circle\, Manassas\, VA\, 20110\, United States
CATEGORIES:Actors Theatre,Ticketed Event
ATTACH;FMTTYPE=image/png:https://virginiaartfactory.org/wp-content/uploads/2026/01/Frozen-Tablet-Graphic-e1769623141403.png
END:VEVENT
BEGIN:VEVENT
DTSTART;TZID=America/New_York:20261128T190000
DTEND;TZID=America/New_York:20261128T210000
DTSTAMP:20260424T131642
CREATED:20260423T181605Z
LAST-MODIFIED:20260423T182623Z
UID:10003302-1795892400-1795899600@virginiaartfactory.org
SUMMARY:Disney's Frozen The Broadway Musical
DESCRIPTION:
URL:https://virginiaartfactory.org/event/disneys-frozen-the-broadway-musical-2/2026-11-28/2/
LOCATION:Hylton Performing Arts Center\, 10960 George Mason Circle\, Manassas\, VA\, 20110\, United States
CATEGORIES:Actors Theatre,Ticketed Event
ATTACH;FMTTYPE=image/png:https://virginiaartfactory.org/wp-content/uploads/2026/01/Frozen-Tablet-Graphic-e1769623141403.png
END:VEVENT
BEGIN:VEVENT
DTSTART;TZID=America/New_York:20261129T140000
DTEND;TZID=America/New_York:20261129T160000
DTSTAMP:20260424T131642
CREATED:20260423T181605Z
LAST-MODIFIED:20260423T182623Z
UID:10003303-1795960800-1795968000@virginiaartfactory.org
SUMMARY:Disney's Frozen The Broadway Musical
DESCRIPTION:
URL:https://virginiaartfactory.org/event/disneys-frozen-the-broadway-musical-2/2026-11-29/
LOCATION:Hylton Performing Arts Center\, 10960 George Mason Circle\, Manassas\, VA\, 20110\, United States
CATEGORIES:Actors Theatre,Ticketed Event
ATTACH;FMTTYPE=image/png:https://virginiaartfactory.org/wp-content/uploads/2026/01/Frozen-Tablet-Graphic-e1769623141403.png
END:VEVENT
END:VCALENDAR