BEGIN:VCALENDAR
VERSION:2.0
PRODID:-//Virginia Art Factory - ECPv6.15.20//NONSGML v1.0//EN
CALSCALE:GREGORIAN
METHOD:PUBLISH
X-WR-CALNAME:Virginia Art Factory
X-ORIGINAL-URL:https://virginiaartfactory.org
X-WR-CALDESC:Events for Virginia Art Factory
REFRESH-INTERVAL;VALUE=DURATION:PT1H
X-Robots-Tag:noindex
X-PUBLISHED-TTL:PT1H
BEGIN:VTIMEZONE
TZID:America/New_York
BEGIN:DAYLIGHT
TZOFFSETFROM:-0500
TZOFFSETTO:-0400
TZNAME:EDT
DTSTART:20250309T070000
END:DAYLIGHT
BEGIN:STANDARD
TZOFFSETFROM:-0400
TZOFFSETTO:-0500
TZNAME:EST
DTSTART:20251102T060000
END:STANDARD
BEGIN:DAYLIGHT
TZOFFSETFROM:-0500
TZOFFSETTO:-0400
TZNAME:EDT
DTSTART:20260308T070000
END:DAYLIGHT
BEGIN:STANDARD
TZOFFSETFROM:-0400
TZOFFSETTO:-0500
TZNAME:EST
DTSTART:20261101T060000
END:STANDARD
BEGIN:DAYLIGHT
TZOFFSETFROM:-0500
TZOFFSETTO:-0400
TZNAME:EDT
DTSTART:20270314T070000
END:DAYLIGHT
BEGIN:STANDARD
TZOFFSETFROM:-0400
TZOFFSETTO:-0500
TZNAME:EST
DTSTART:20271107T060000
END:STANDARD
END:VTIMEZONE
BEGIN:VEVENT
DTSTART;TZID=America/New_York:20260724T190000
DTEND;TZID=America/New_York:20260724T213000
DTSTAMP:20260425T114134
CREATED:20260424T211234Z
LAST-MODIFIED:20260424T211251Z
UID:10003307-1784919600-1784928600@virginiaartfactory.org
SUMMARY:Diary of a Wimpy Kid
DESCRIPTION:Middle school\, ugh. It’s the worst. But Greg Heffley is determined not to be at the bottom of the popularity chart. He’ll leave that to his weird neighbor\, Fregley. Or maybe his best friend\, Rowley Jefferson. But it’s not going to be Greg… no way.\nJeff Kinney’s popular character takes center stage as Greg’s cartoon diary becomes a hilarious and heartfelt musical. Will Greg’s plans to become popular lead him to sacrifice his one true friend? Can anyone avoid the dreaded Cheese Touch? Grab a hall pass and don’t be late for an adventure familiar to anyone who actually survived middle school.\nDiary of a Wimpy Kid is presented by special arrangement with Broadway Licensing Global. (www.broadwaylicensing.com)
URL:https://virginiaartfactory.org/event/diary-of-a-wimpy-kid-2/2026-07-24/
LOCATION:Osbourne High School\, 1977 Eagle Way\, Manassas\, VA\, 20110\, United States
CATEGORIES:Pied Piper Theatre,Ticketed Event
ATTACH;FMTTYPE=image/png:https://virginiaartfactory.org/wp-content/uploads/2026/04/Copy-of-Wimpy-Kid-Ticket-Graphic.png
END:VEVENT
BEGIN:VEVENT
DTSTART;TZID=America/New_York:20260725T140000
DTEND;TZID=America/New_York:20260725T163000
DTSTAMP:20260425T114134
CREATED:20260424T211234Z
LAST-MODIFIED:20260424T211251Z
UID:10003308-1784988000-1784997000@virginiaartfactory.org
SUMMARY:Diary of a Wimpy Kid
DESCRIPTION:Middle school\, ugh. It’s the worst. But Greg Heffley is determined not to be at the bottom of the popularity chart. He’ll leave that to his weird neighbor\, Fregley. Or maybe his best friend\, Rowley Jefferson. But it’s not going to be Greg… no way.\nJeff Kinney’s popular character takes center stage as Greg’s cartoon diary becomes a hilarious and heartfelt musical. Will Greg’s plans to become popular lead him to sacrifice his one true friend? Can anyone avoid the dreaded Cheese Touch? Grab a hall pass and don’t be late for an adventure familiar to anyone who actually survived middle school.\nDiary of a Wimpy Kid is presented by special arrangement with Broadway Licensing Global. (www.broadwaylicensing.com)
URL:https://virginiaartfactory.org/event/diary-of-a-wimpy-kid-2/2026-07-25/1/
LOCATION:Osbourne High School\, 1977 Eagle Way\, Manassas\, VA\, 20110\, United States
CATEGORIES:Pied Piper Theatre,Ticketed Event
ATTACH;FMTTYPE=image/png:https://virginiaartfactory.org/wp-content/uploads/2026/04/Copy-of-Wimpy-Kid-Ticket-Graphic.png
END:VEVENT
BEGIN:VEVENT
DTSTART;TZID=America/New_York:20260725T190000
DTEND;TZID=America/New_York:20260725T213000
DTSTAMP:20260425T114134
CREATED:20260424T211234Z
LAST-MODIFIED:20260424T211251Z
UID:10003309-1785006000-1785015000@virginiaartfactory.org
SUMMARY:Diary of a Wimpy Kid
DESCRIPTION:Middle school\, ugh. It’s the worst. But Greg Heffley is determined not to be at the bottom of the popularity chart. He’ll leave that to his weird neighbor\, Fregley. Or maybe his best friend\, Rowley Jefferson. But it’s not going to be Greg… no way.\nJeff Kinney’s popular character takes center stage as Greg’s cartoon diary becomes a hilarious and heartfelt musical. Will Greg’s plans to become popular lead him to sacrifice his one true friend? Can anyone avoid the dreaded Cheese Touch? Grab a hall pass and don’t be late for an adventure familiar to anyone who actually survived middle school.\nDiary of a Wimpy Kid is presented by special arrangement with Broadway Licensing Global. (www.broadwaylicensing.com)
URL:https://virginiaartfactory.org/event/diary-of-a-wimpy-kid-2/2026-07-25/2/
LOCATION:Osbourne High School\, 1977 Eagle Way\, Manassas\, VA\, 20110\, United States
CATEGORIES:Pied Piper Theatre,Ticketed Event
ATTACH;FMTTYPE=image/png:https://virginiaartfactory.org/wp-content/uploads/2026/04/Copy-of-Wimpy-Kid-Ticket-Graphic.png
END:VEVENT
END:VCALENDAR