BEGIN:VCALENDAR
VERSION:2.0
PRODID:-//Virginia Art Factory - ECPv6.15.20//NONSGML v1.0//EN
CALSCALE:GREGORIAN
METHOD:PUBLISH
X-ORIGINAL-URL:https://virginiaartfactory.org
X-WR-CALDESC:Events for Virginia Art Factory
REFRESH-INTERVAL;VALUE=DURATION:PT1H
X-Robots-Tag:noindex
X-PUBLISHED-TTL:PT1H
BEGIN:VTIMEZONE
TZID:America/New_York
BEGIN:DAYLIGHT
TZOFFSETFROM:-0500
TZOFFSETTO:-0400
TZNAME:EDT
DTSTART:20250309T070000
END:DAYLIGHT
BEGIN:STANDARD
TZOFFSETFROM:-0400
TZOFFSETTO:-0500
TZNAME:EST
DTSTART:20251102T060000
END:STANDARD
BEGIN:DAYLIGHT
TZOFFSETFROM:-0500
TZOFFSETTO:-0400
TZNAME:EDT
DTSTART:20260308T070000
END:DAYLIGHT
BEGIN:STANDARD
TZOFFSETFROM:-0400
TZOFFSETTO:-0500
TZNAME:EST
DTSTART:20261101T060000
END:STANDARD
BEGIN:DAYLIGHT
TZOFFSETFROM:-0500
TZOFFSETTO:-0400
TZNAME:EDT
DTSTART:20270314T070000
END:DAYLIGHT
BEGIN:STANDARD
TZOFFSETFROM:-0400
TZOFFSETTO:-0500
TZNAME:EST
DTSTART:20271107T060000
END:STANDARD
END:VTIMEZONE
BEGIN:VTIMEZONE
TZID:UTC
BEGIN:STANDARD
TZOFFSETFROM:+0000
TZOFFSETTO:+0000
TZNAME:UTC
DTSTART:20250101T000000
END:STANDARD
END:VTIMEZONE
BEGIN:VEVENT
DTSTART;TZID=America/New_York:20260419T140000
DTEND;TZID=America/New_York:20260419T163000
DTSTAMP:20260420T233351
CREATED:20260111T182330Z
LAST-MODIFIED:20260408T150201Z
UID:10002883-1776607200-1776616200@virginiaartfactory.org
SUMMARY:Nunsense
DESCRIPTION:Holy hilarity! A musical comedy to die for! NUNSENSE is a habit-forming musical comedy packed with irreverent humor\, catchy tunes\, and nonstop laughs! When a culinary mishap leaves most of the convent in the freezer\, the remaining Little Sisters of Hoboken put on a fundraiser like no other. Featuring tap-dancing nuns\, audience participation\, and outrageous surprises\, Nunsense is a joyous celebration of faith\, friendship\, and finding humor in the unexpected. Heavenly fun for audiences of all ages—this is one musical you’ll be praying never ends! \nPerformances will be held in the Wind River Theatre at the ARTfactory April 10-19\, Fridays and Saturdays at 7:30 PM and Sundays at 2 PM. Stadium seating and premier table seating available.
URL:https://virginiaartfactory.org/event/nunsense-2/2026-04-19/
LOCATION:ARTfactory\, 9419 Battle Street\, Manassas\, VA\, 20110\, United States
CATEGORIES:Actors Theatre,Ticketed Event
ATTACH;FMTTYPE=image/png:https://virginiaartfactory.org/wp-content/uploads/2026/01/Nunsense-Ticket-Graphic-1.png
END:VEVENT
BEGIN:VEVENT
DTSTART;TZID=America/New_York:20260419T123000
DTEND;TZID=America/New_York:20260419T143000
DTSTAMP:20260420T233351
CREATED:20260323T172010Z
LAST-MODIFIED:20260323T172010Z
UID:10003279-1776601800-1776609000@virginiaartfactory.org
SUMMARY:Cut From the Heart: Collage Journey Guided by the Heart
DESCRIPTION:In honor of Black Women’s History Month\, Detox Art invites you into something softer — a space where creativity isn’t a performance\, and expression isn’t graded. \nCut from the Heart is a mindfulness-based collage experience hosted in partnership with Moredinary Art and led by artist Roco. This gathering was created for Black and Brown women who want a different kind of Sunday — one that feels like exhaling. \nWe’ll open with a guided meditation to quiet the noise and bring you into the present moment. From there\, Roco will lead a live collage demonstration — not to teach you the “right” way\, but to show you that there isn’t one. Then\, you’ll create your own piece. No instructions to follow. No finished product to achieve. Just you\, your intuition\, and whatever wants to come forward. \nCollage is one of the most forgiving art forms there is. It’s tearing\, layering\, choosing\, releasing — and in that process\, something true tends to emerge. \nInvitation to Join the Honorary Alter:\nWithin this sacred space\, we’re holding space for women: past and present\, living and transitioned. If you’d like to pay homage to us\, bring a physical photo (framed or not)\, and place it on the altar or at your work station\, whatever is most comfortable for you. \nThis event is for you if you’re: \n— A Black or Brown woman seeking creative community outside of networking spaces \n— Craving a way to decompress that doesn’t involve a screen \n— Curious about art but convinced you’re “not creative” \n— Looking for a solo adventure or a meaningful afternoon with a small group \n— Ready to explore identity\, freedom\, and feeling through your hands \n  \nMen are warmly welcomed. All are invited to enter with openness and respect. \n \nWhat’s included:  \nGuided meditation  \nLive collage demo with Roco \nAll materials provided \nIntentional community space \n  \nNo experience necessary. Come as you are. \nConnect Socially\n@detoxart.co \n@moredinary.art \nAges 18+ \nSunday\, April 19th \n12:30-2:30 pm \nRegistration Fee: $44.52-65.87 (ticketing via DetoxArt\, see “Register” link for details.)
URL:https://virginiaartfactory.org/event/cut-from-the-heart/
LOCATION:ARTfactory\, 9419 Battle Street\, Manassas\, VA\, 20110\, United States
CATEGORIES:All Classes,Featured Class
ATTACH;FMTTYPE=image/png:https://virginiaartfactory.org/wp-content/uploads/2026/03/Detox-Art-x-Moredinary-Art-Collage-Event_April-2026-3.png
END:VEVENT
BEGIN:VEVENT
DTSTART;TZID=America/New_York:20260418T140000
DTEND;TZID=America/New_York:20260418T170000
DTSTAMP:20260420T233351
CREATED:20260320T144346Z
LAST-MODIFIED:20260320T144347Z
UID:10003278-1776520800-1776531600@virginiaartfactory.org
SUMMARY:Paper Quilling for Calm
DESCRIPTION:2026 is the year to give back to yourself\, and there’s no better place to start than this entry in our ARTful Wellness series\, brought to you in partnership with UVA Health. \nCome and learn the basics of the fine art of Quilling or Paper Filigree. This unique process for creating beautiful paper artwork is naturally meditative and will help you find calm in creation. \nNo prior experience is needed to join this class! Just bring an open mind\, and your reading glasses. \nAges 15+ \nSaturday\, April 18th \n2-5 pm \nRegistration Fee: FREE!! \nThis free wellness class is brought to you in partnership with UVA Health.
URL:https://virginiaartfactory.org/event/paper-quilling-for-calm/
LOCATION:ARTfactory\, 9419 Battle Street\, Manassas\, VA\, 20110\, United States
CATEGORIES:All Classes,ARTful Wellness,Featured Class
ATTACH;FMTTYPE=image/png:https://virginiaartfactory.org/wp-content/uploads/2026/03/paper-quilling-for-calm.png
END:VEVENT
BEGIN:VEVENT
DTSTART;TZID=America/New_York:20260418T090000
DTEND;TZID=America/New_York:20260418T100000
DTSTAMP:20260420T233351
CREATED:20251229T174746Z
LAST-MODIFIED:20251229T174746Z
UID:10002834-1776502800-1776506400@virginiaartfactory.org
SUMMARY:Adventure Story Drama (3-5)
DESCRIPTION:Do you have a little that loves to live large? Come out to our brand new theatre class for kids ages 3-5! \nStudents will bring beloved storybooks to life through imagination and acting exploration under the fun and expert guidance of EJ Fultz. This is an introductory class\, with a new story each week\, so every class is guaranteed to be a fun time. Students will grow in their excitement for theatre and reading! \nParents are encouraged to attend the class with their young ones. \nAges 3-5 \nSaturdays 9-10 am \nApril 18 – May 16 \nClass Fee: $95      Supplies Fee: $5
URL:https://virginiaartfactory.org/event/adventure-story-drama-3-5/
LOCATION:ARTfactory\, 9419 Battle Street\, Manassas\, VA\, 20110\, United States
CATEGORIES:All Classes,Featured Class
ATTACH;FMTTYPE=image/avif:https://virginiaartfactory.org/wp-content/uploads/2025/12/Adventure-Story-Drama-1.avif
END:VEVENT
BEGIN:VEVENT
DTSTART;TZID=America/New_York:20260416T180000
DTEND;TZID=America/New_York:20260416T193000
DTSTAMP:20260420T233351
CREATED:20251230T142453Z
LAST-MODIFIED:20251230T142453Z
UID:10002840-1776362400-1776367800@virginiaartfactory.org
SUMMARY:Calligraphy for Beginners
DESCRIPTION:Learn the art of “Beautiful Writing” with renowned artist Michele Frantz. \nStudents will be introduced to the versatile “Bookhand” alphabet\, suitable for both elegant documents and everyday writing. After this four week course you will have all the fundamentals you need to start creating unique\, homemade messaging for all the important moments in your life. \nAll supplies will be provided via the supplies fee. \nThursdays 6-7:30 pm \nApril 16 – May 7 \nClass Fee: $114                             Supply Fee: $8
URL:https://virginiaartfactory.org/event/calligraphy-for-beginners/
LOCATION:ARTfactory\, 9419 Battle Street\, Manassas\, VA\, 20110\, United States
CATEGORIES:All Classes,Featured Class
ATTACH;FMTTYPE=image/avif:https://virginiaartfactory.org/wp-content/uploads/2025/12/Calligraphy-for-Beginners-1.avif
END:VEVENT
BEGIN:VEVENT
DTSTART;TZID=America/New_York:20260412T120000
DTEND;TZID=America/New_York:20260412T140000
DTSTAMP:20260420T233351
CREATED:20260320T144242Z
LAST-MODIFIED:20260324T143036Z
UID:10003277-1775995200-1776002400@virginiaartfactory.org
SUMMARY:Watercolor Painting as Meditation
DESCRIPTION:2026 is the year to give back to yourself\, and there’s no better place to start than this installment in our ARTful Wellness series\, brought to you in partnership with UVA Health. \nLose yourself in this relaxing watercolor class\, where you can take your mind out of your everyday life and submerge into your paper. Unleash your creativity\,  and let your imagination take over in this meditative watercolor class. \nThis free wellness workshop is open to all levels\, and no painting experience is needed. \nAges 15+ \nSunday\, April 12th \n12-2 pm \nRegistration Fee: FREE!! \nThis FREE wellness class is brought to you in partnership with UVA Health.
URL:https://virginiaartfactory.org/event/watercolor-painting-as-meditation/
LOCATION:ARTfactory\, 9419 Battle Street\, Manassas\, VA\, 20110\, United States
CATEGORIES:All Classes,ARTful Wellness,Featured Class
ATTACH;FMTTYPE=image/png:https://virginiaartfactory.org/wp-content/uploads/2026/03/Watercolor-Painting-as-Meditation-1.png
END:VEVENT
BEGIN:VEVENT
DTSTART;TZID=UTC:20260411T140000
DTEND;TZID=UTC:20260411T160000
DTSTAMP:20260420T233351
CREATED:20260121T185823Z
LAST-MODIFIED:20260414T145224Z
UID:10003193-1775916000-1775923200@virginiaartfactory.org
SUMMARY:Artist Talk with Auguster D Williams Jr
DESCRIPTION:Auguster D Williams Jr: A Solo Exhibition of Resilience\, Healing\, and TransformationOn display: March 13\, 2026 – April 19\, 2026ARTfactory\, 9419 Battle St\, Manassas\, VAArtist Talk: Saturday\, April 11\, 2026\, 2-4 PMExhibition programming sponsored by UVA Health.In this solo exhibition\, mixed-media collage artist Auguster D Williams Jr presents a compelling body of two- and three-dimensional works created from discarded and salvaged materials. Drawing from wood\, glass\, cardboard\, metal\, plastic\, and textiles—often recovered from dumpsters or curbside castoffs\, the exhibition explores themes of resilience\, healing\, and transformation through richly layered\, evocative compositions.Rooted in sustainability and personal renewal\, Williams’s practice reimagines overlooked materials into cohesive works that blur the boundaries between fine art and functional design. Mirrors\, room dividers\, connectors\, and windmills appear alongside wall-based collages\, challenging traditional notions of utility while emphasizing the poetic potential of reuse.The artist’s creative journey began in 2017 while participating in art therapy through the U.S. Department of Veterans Affairs’ substance abuse and mental health program. A U.S. Navy veteran living with PTSD\, Williams discovered art as both a therapeutic outlet and a powerful form of self-expression. In 2018\, the collage Love (Thyself) and Resilience received First Place in its category at the National Veterans Creative Arts Festival—an achievement that marked a pivotal moment and solidified a lifelong commitment to artistic practice.Since then\, Williams has exhibited work in Washington\, D.C. and New York\, continuing to expand a portfolio that centers on repurposing—not only of physical materials\, but of personal identity. Often describing themselves as a “repurposed human being\,” the artist transforms what was once discarded into objects of meaning and beauty\, offering a broader reflection on recovery and the resilience of the human spirit.Williams’s solo exhibit ultimately encourages audiences to recognize beauty in the unexpected and to consider creative engagement as a powerful path toward wellness\, connection\, and community. \n\nContact ARTfactory\, Gallery Director: Jordan Exum | jexum@VirginiaARTfactory.org 9419 Battle St\, Manassas\, VA 20110 | 703-330-2787 Gallery Hours: Tuesday-Saturday (10 am-5 pm)\, Sunday (12-5 pm) VirginiaARTfactory.org 
URL:https://virginiaartfactory.org/event/auguster-williams-artist-talk/
LOCATION:ARTfactory\, 9419 Battle Street\, Manassas\, VA\, 20110\, United States
CATEGORIES:Gallery
ATTACH;FMTTYPE=image/avif:https://virginiaartfactory.org/wp-content/uploads/2026/01/Auguster_Artisttalk_Letter-1920-x-1080-px.avif
END:VEVENT
BEGIN:VEVENT
DTSTART;TZID=America/New_York:20260411T130000
DTEND;TZID=America/New_York:20260411T153000
DTSTAMP:20260420T233351
CREATED:20251229T163940Z
LAST-MODIFIED:20260304T142218Z
UID:10002822-1775912400-1775921400@virginiaartfactory.org
SUMMARY:Wild\, Wonderful Watercolor Pencils!
DESCRIPTION:Have fun exploring the many different techniques one can use with watercolor pencils! \nWatercolor pencils are a versatile medium because they can be used dry for colored-pencil effects\, partially diluted\, or completely diluted. These pencils are fun to use and can create smooth or textured artwork\, and they’re a great way to become more comfortable with watercolor as a painting medium! \nAccomplished artist Valerie Larson will be presenting examples of her own watercolor-pencil paintings\, showcasing various techniques she uses. These techniques include mixing colors\, creating paper palettes\, and much more. \nStudents can bring their own photo for painting inspiration or follow along with the one provided in the workshop. You will also be working on Aquabord\, a clay-like surface made for watercolors. \nALL SUPPLIES PROVIDED VIA THE SUPPLY FEE!! \nAges 15+ \nSaturday\, April 11th \n1-3:30 pm \nRegistration Fee: $47.50        Supply Fee: $7
URL:https://virginiaartfactory.org/event/wild-wonderful-watercolor-pencils/
LOCATION:ARTfactory\, 9419 Battle Street\, Manassas\, VA\, 20110\, United States
CATEGORIES:All Classes,Featured Class
ATTACH;FMTTYPE=image/avif:https://virginiaartfactory.org/wp-content/uploads/2025/12/Wild-Wonderful-Watercolor-Pencils.avif
END:VEVENT
BEGIN:VEVENT
DTSTART;TZID=America/New_York:20260410T180000
DTEND;TZID=America/New_York:20260410T200000
DTSTAMP:20260420T233351
CREATED:20251229T164525Z
LAST-MODIFIED:20251230T141231Z
UID:10002824-1775844000-1775851200@virginiaartfactory.org
SUMMARY:Murder\, Mysteries\, and Mayhem: A Crime-Writing Course
DESCRIPTION:The Art of Writing: Murder\, Mystery\, and Mayhem is a four-week writing workshop focused on writing mysteries. In the words of the great Sherlock Holmes\, “The game’s afoot!” \nAs writers\, the mystery genre is one of the most challenging\, because it is a game you play with your reader\, doing your best to keep them from solving the case until the very end while still having the solution make perfect sense in hindsight. \nThroughout this writing course\, we’ll explore the great detectives and the kinds of mysteries from classic to noir to cozy and how to construct one that will keep your readers guessing. \nBy the end of the course\, you’ll have a collection of fresh writing\, peer feedback\, and practical tools to continue your writing journey beyond the workshop. \nCome ready to write\, share\, and grow. \nThis workshop is open to writers of all levels and genres. \nAges 15+ \nFridays 6-8 pm \nApril 10th – May 1st \nClass Fee: $152
URL:https://virginiaartfactory.org/event/murder-mysteries-and-mayhem-a-crime-writing-course/
LOCATION:ARTfactory\, 9419 Battle Street\, Manassas\, VA\, 20110\, United States
CATEGORIES:All Classes,Featured Class
ATTACH;FMTTYPE=image/avif:https://virginiaartfactory.org/wp-content/uploads/2025/12/Murder-Mystery-and-Mayhem.avif
END:VEVENT
BEGIN:VEVENT
DTSTART;TZID=America/New_York:20260410T163000
DTEND;TZID=America/New_York:20260410T173000
DTSTAMP:20260420T233351
CREATED:20251230T145414Z
LAST-MODIFIED:20260106T192434Z
UID:10002848-1775838600-1775842200@virginiaartfactory.org
SUMMARY:Character Creation for Kids (5-8)
DESCRIPTION:This imaginative class teaches young performers how to bring a character to life through acting\, movement\, and playful storytelling. \nEach week\, students explore how characters think\, feel\, move\, and express themselves\, turning simple ideas into fully realized personalities. Through theatre games\, creative exercises\, and guided exploration\, kids will practice using their voices\, bodies\, and imaginations to step into someone new. \nThis class is designed for children with or without prior theatre experience. Every activity is welcoming\, accessible\, and beginner-friendly\, offering gentle challenges for more confident young performers while keeping things fun and comfortable for brand-new students. \nAges 5-8 \nFridays 4:30-5:30 pm \nApril 10 – May 1 \nClass Fee: $76
URL:https://virginiaartfactory.org/event/character-creation-for-kids-5-8/
LOCATION:ARTfactory\, 9419 Battle Street\, Manassas\, VA\, 20110\, United States
CATEGORIES:All Classes,Featured Class,Pied Piper Theatre
ATTACH;FMTTYPE=image/png:https://virginiaartfactory.org/wp-content/uploads/2025/12/Character-Creation-1.png
END:VEVENT
BEGIN:VEVENT
DTSTART;TZID=America/New_York:20260410T103000
DTEND;TZID=America/New_York:20260410T123000
DTSTAMP:20260420T233351
CREATED:20251230T142200Z
LAST-MODIFIED:20251230T142201Z
UID:10002839-1775817000-1775824200@virginiaartfactory.org
SUMMARY:Watercolor Basics and Beyond
DESCRIPTION:Explore the beautiful fluidity and transparency of watercolor. Beginners will learn basic tools and techniques. \nExperienced students will explore new methods\, materials\, and styles. \nThis class is offered throughout the year with a different approach presented in each session. \nA list of supplies can be found on the Classes and Camps page\, or by clicking here. Watercolor paper will be provided by the instructor. \nFridays 10:30 am – 12:30 pm \nApril 10th – May 8th \nFor ages 15 & up. \nTuition: $190  Supply Fee: $5
URL:https://virginiaartfactory.org/event/watercolor-basics-and-beyond-4/
LOCATION:ARTfactory\, 9419 Battle Street\, Manassas\, VA\, 20110\, United States
CATEGORIES:All Classes,Featured Class
ATTACH;FMTTYPE=image/avif:https://virginiaartfactory.org/wp-content/uploads/2025/03/download.avif
END:VEVENT
BEGIN:VEVENT
DTSTART;TZID=America/New_York:20260408T163000
DTEND;TZID=America/New_York:20260408T173000
DTSTAMP:20260420T233351
CREATED:20251230T145704Z
LAST-MODIFIED:20251230T145705Z
UID:10002849-1775665800-1775669400@virginiaartfactory.org
SUMMARY:Musical Theatre for Minis (5-8)
DESCRIPTION:Whether your child is brand-new to the stage or already bursting with Broadway energy\, this class is the perfect place for them to explore the many aspects of musical theatre. \nEach week they will strengthen their acting\, singing\, and dancing skills\, all while learning a short piece to be performed at the last session. Along the way\, young performers will learn how music\, movement\, and storytelling fit together\, building confidence as they try new skills and make bold creative choices. \nStudents will not only grow individually\, but also discover what it means to collaborate as an ensemble by listening to each other\, working as a team\, and celebrating everyone’s unique contributions. \nAges 5-8 \nWednesdays 4:30-5:30 pm \nApril 8-29 \nClass Fee: $76
URL:https://virginiaartfactory.org/event/musical-theatre-for-minis-5-8/
LOCATION:ARTfactory\, 9419 Battle Street\, Manassas\, VA\, 20110\, United States
CATEGORIES:All Classes,Featured Class,Pied Piper Theatre
ATTACH;FMTTYPE=image/avif:https://virginiaartfactory.org/wp-content/uploads/2025/12/Musical-Theatre-for-Minis.avif
END:VEVENT
BEGIN:VEVENT
DTSTART;TZID=America/New_York:20260408T103000
DTEND;TZID=America/New_York:20260408T130000
DTSTAMP:20260420T233351
CREATED:20251230T154300Z
LAST-MODIFIED:20260114T184009Z
UID:10002861-1775644200-1775653200@virginiaartfactory.org
SUMMARY:Pen and Ink Wash
DESCRIPTION:Looking to shake up your approach to watercolors? This class will show you how to elevate your paintings with ink accents that help your subjects pop! \nIn this multi-media class\, instructor Mike Flynn will guide students through four different projects using ink pen and watercolor paint. \nStudents will conquer a new project each week\, and learn the fundamentals of using both pen and paint to create beautiful art. \nCanvases and pens will be provided via the supply fee\, paint supplies will need to be purchased. You can find supply lists here. \nAges 16+ \nWednesdays 10:30 am – 1 pm \nApril 8-29 \nRegistration Fee: $190                Paper Fee: $10
URL:https://virginiaartfactory.org/event/pen-and-ink-wash/
LOCATION:ARTfactory\, 9419 Battle Street\, Manassas\, VA\, 20110\, United States
CATEGORIES:All Classes,Featured Class
ATTACH;FMTTYPE=image/avif:https://virginiaartfactory.org/wp-content/uploads/2025/03/Pen-and-Ink-and-Wash.avif
END:VEVENT
END:VCALENDAR